BEGIN:VCALENDAR
VERSION:2.0
PRODID:-//Lokale Agenda 21 Trier - ECPv6.15.20//NONSGML v1.0//EN
CALSCALE:GREGORIAN
METHOD:PUBLISH
X-ORIGINAL-URL:https://la21-trier.de
X-WR-CALDESC:Veranstaltungen für Lokale Agenda 21 Trier
REFRESH-INTERVAL;VALUE=DURATION:PT1H
X-Robots-Tag:noindex
X-PUBLISHED-TTL:PT1H
BEGIN:VTIMEZONE
TZID:Europe/Berlin
BEGIN:DAYLIGHT
TZOFFSETFROM:+0100
TZOFFSETTO:+0200
TZNAME:CEST
DTSTART:20240331T010000
END:DAYLIGHT
BEGIN:STANDARD
TZOFFSETFROM:+0200
TZOFFSETTO:+0100
TZNAME:CET
DTSTART:20241027T010000
END:STANDARD
BEGIN:DAYLIGHT
TZOFFSETFROM:+0100
TZOFFSETTO:+0200
TZNAME:CEST
DTSTART:20250330T010000
END:DAYLIGHT
BEGIN:STANDARD
TZOFFSETFROM:+0200
TZOFFSETTO:+0100
TZNAME:CET
DTSTART:20251026T010000
END:STANDARD
BEGIN:DAYLIGHT
TZOFFSETFROM:+0100
TZOFFSETTO:+0200
TZNAME:CEST
DTSTART:20260329T010000
END:DAYLIGHT
BEGIN:STANDARD
TZOFFSETFROM:+0200
TZOFFSETTO:+0100
TZNAME:CET
DTSTART:20261025T010000
END:STANDARD
END:VTIMEZONE
BEGIN:VEVENT
DTSTART;TZID=Europe/Berlin:20250611T153000
DTEND;TZID=Europe/Berlin:20250611T170000
DTSTAMP:20260421T112258
CREATED:20250411T122903Z
LAST-MODIFIED:20250414T145540Z
UID:64857-1749655800-1749661200@la21-trier.de
SUMMARY:Agenda-Kino Kids: Checker Tobi und die Reise zu den fliegenden Flüssen
DESCRIPTION:Eines Tages erhält Checker Tobi eine geheimnisvolle Kiste. Um den Schlüssel zu finden und die Kiste zu öffnen\, muss er sich auf eine lange Reise begeben. Diese führt ihn unter anderem nach Vietnam\, Brasilien oder die Mongolei. Auf seiner Reise lernt er allerhand Neues über die Menschen und Natur in den weit entfernten Ländern und welche Auswirkungen die Umweltverschmutzung auf sie hat. \n  \nGemacht von: Johannes Honsell \nDeutschland\, 2023 \n93 Minuten \nAb 0 Jahren \n  \nFilmpat:innen \n-Greenpeace Trier \n-BUNDjugend Trier \n  \nIn Kooperation mit der:\n\nHeinrich Böll Stiftung Rheinland-Pfalz e.V.
URL:https://la21-trier.de/veranstaltung/agenda-kino-kids-checker-tobi-und-die-reise-zu-den-fliegenden-fluessen/
LOCATION:Broadway Filmtheater\, Paulinstraße 18\, Trier\, 54292\, Germany
CATEGORIES:Agenda Kino
ATTACH;FMTTYPE=image/png:https://la21-trier.de/wp-content/uploads/2025/04/Agenda_Checker_tobi-2.png
END:VEVENT
END:VCALENDAR