BEGIN:VCALENDAR
VERSION:2.0
PRODID:-//Lokale Agenda 21 Trier - ECPv6.15.20//NONSGML v1.0//EN
CALSCALE:GREGORIAN
METHOD:PUBLISH
X-WR-CALNAME:Lokale Agenda 21 Trier
X-ORIGINAL-URL:https://la21-trier.de
X-WR-CALDESC:Veranstaltungen für Lokale Agenda 21 Trier
REFRESH-INTERVAL;VALUE=DURATION:PT1H
X-Robots-Tag:noindex
X-PUBLISHED-TTL:PT1H
BEGIN:VTIMEZONE
TZID:Europe/Berlin
BEGIN:DAYLIGHT
TZOFFSETFROM:+0100
TZOFFSETTO:+0200
TZNAME:CEST
DTSTART:20240331T010000
END:DAYLIGHT
BEGIN:STANDARD
TZOFFSETFROM:+0200
TZOFFSETTO:+0100
TZNAME:CET
DTSTART:20241027T010000
END:STANDARD
BEGIN:DAYLIGHT
TZOFFSETFROM:+0100
TZOFFSETTO:+0200
TZNAME:CEST
DTSTART:20250330T010000
END:DAYLIGHT
BEGIN:STANDARD
TZOFFSETFROM:+0200
TZOFFSETTO:+0100
TZNAME:CET
DTSTART:20251026T010000
END:STANDARD
BEGIN:DAYLIGHT
TZOFFSETFROM:+0100
TZOFFSETTO:+0200
TZNAME:CEST
DTSTART:20260329T010000
END:DAYLIGHT
BEGIN:STANDARD
TZOFFSETFROM:+0200
TZOFFSETTO:+0100
TZNAME:CET
DTSTART:20261025T010000
END:STANDARD
END:VTIMEZONE
BEGIN:VEVENT
DTSTART;TZID=Europe/Berlin:20250911T093000
DTEND;TZID=Europe/Berlin:20250911T170000
DTSTAMP:20260420T110416
CREATED:20250825T141242Z
LAST-MODIFIED:20250909T133728Z
UID:65550-1757583000-1757610000@la21-trier.de
SUMMARY:Globales Lernen in Aktion: Es ist Klimakrise und du weißt\, was du tun kannst
DESCRIPTION:Unsere beliebte Workshop-Reihe „Globales Lernen in Aktion“ (GLIA) geht mit drei spannenden Workshops in die nächste Runde. Die Formate richten sich an Aktive in der schulischen und außerschulischen Bildungsarbeit – an Multiplikator*innen\, Bildungsreferent*innen und Lehrkräfte -\, die neue Lehr- und Lernmethoden außerhalb von (Klassen-)Räumen kennenlernen und ausprobieren möchten. \nWorkshop 2\nEs ist Klimakrise und du weißt\, was du tun kannst\n„Saving the world is now a communications challenge“\, stellte der Naturforscher und Dokumentarfilmer David Attenborough im Jahr 2021 fest. Angesichts der Klimakrise und der nötigen strukturellen Veränderungen von Wirtschafts- und Lebensweisen fühlen sich viele Menschen ohnmächtig – Informationen allein reichen oft nicht aus\, um zum Handeln zu motivieren. In diesem Workshop erarbeiten wir\, wie Klimakommunikation gelingen kann: mit Basiswissen zur Krise\, Raum für Gefühle und konkreten Methoden\, die Menschen aus der Ohnmacht ins Handeln bringen. Zudem lernen die Teilnehmenden das Konzept des „Handabdrucks“ – im Vergleich zum „CO2-Fußabdruck“ – kennen und diskutieren\, wie Nachhaltigkeit zum gesellschaftlichen Grundsatz werden kann. \nReferentin: Simone Beege (Kaleidoskop) \nDas vollständige Programm ist über folgenden Link erreichbar: Flyer GLIA 2025 \nBitte melden Sie sich bis eine Woche vor der jeweiligen Veranstaltung über folgenden Link an: https://eveeno.com/GLIA2025 \nAlle drei Workshops sind als Lehrkräfte-Fortbildung in RLP anerkannt. Die Teilnahme ist kostenfrei. Die Kosten für Verpflegung werden durch die Veranstalter*innen übernommen. Die Fahrtkosten können nicht erstattet werden. Die GLIA wird von der Arbeitsgemeinschaft Natur- und Umweltbildung Rheinland-Pfalz (ANU RLP) e.V.\, der Lokalen Agenda 21 Trier e.V. und dem Entwicklungspolitischen Landesnetzwerk Rheinland-Pfalz (ELAN) e.V. veranstaltet. Bei Rückfragen zum Programm oder Anliegen rund um das Thema Barrierefreiheit\, können Sie jederzeit Judith Kunz per Mail an bildung@elan-rlp.de kontaktieren.
URL:https://la21-trier.de/veranstaltung/globales-lernen-in-aktion-es-ist-klimakrise-und-du-weisst-was-du-tun-kannst/
ATTACH;FMTTYPE=image/png:https://la21-trier.de/wp-content/uploads/2025/08/Titelbild-Vorlage-GLIA.png
END:VEVENT
END:VCALENDAR